BEGIN:VCALENDAR
VERSION:2.0
PRODID:-//Pifferi GmbH - ECPv4.6.21//NONSGML v1.0//EN
CALSCALE:GREGORIAN
METHOD:PUBLISH
X-WR-CALNAME:Pifferi GmbH
X-ORIGINAL-URL:https://pifferi.de
X-WR-CALDESC:Veranstaltungen für Pifferi GmbH
BEGIN:VEVENT
DTSTART;VALUE=DATE:20181101
DTEND;VALUE=DATE:20181102
DTSTAMP:20260420T194312
CREATED:20180625T095459Z
LAST-MODIFIED:20180625T095608Z
UID:388-1541030400-1541116799@pifferi.de
SUMMARY:Allerheiligen
DESCRIPTION:1. November 2018 Allerheiligen\n\nSehr geehrte Kunden\,\nliebe Besucher\, \nam Donnerstag\, den 01.11.2018 bleibt unser Betrieb ganztägig geschlossen. \nWir wünschen ihnen einen schönen Feiertag! \nIhr Team von\nPifferi GmbH Schneidereibedarf \n
URL:https://pifferi.de/event/allerheiligen
CATEGORIES:Feiertage
END:VEVENT
END:VCALENDAR