BEGIN:VCALENDAR
VERSION:2.0
PRODID:-//Pifferi GmbH - ECPv4.6.21//NONSGML v1.0//EN
CALSCALE:GREGORIAN
METHOD:PUBLISH
X-WR-CALNAME:Pifferi GmbH
X-ORIGINAL-URL:https://pifferi.de
X-WR-CALDESC:Veranstaltungen für Pifferi GmbH
BEGIN:VEVENT
DTSTART;VALUE=DATE:20170629
DTEND;VALUE=DATE:20170630
DTSTAMP:20260420T141019
CREATED:20170629T064621Z
LAST-MODIFIED:20170629T092501Z
UID:166-1498694400-1498780799@pifferi.de
SUMMARY:Kalender
DESCRIPTION:Neue Kalenderfunktion\n\nSehr geehrte Kunden\, \nin unserer neuen Rubrik “Kalender” finden Sie ab sofort alle wichtigen Termine und Ereignisse. \nÜber den Button “Alle Veranstaltungen” können Sie alle Termine für das aktuelle Kalenderjahr einsehen. \nNie mehr einen Termin verpassen! \n\nUnser Service für Sie:\nAlle Termine und Ereignisse können Sie ganz bequem Ihrem\nGoogle-Kalender oder iCalendar hinzufügen.\n(Nutzen Sie dafür bitte die entsprechenden Buttons.)\n\n
URL:https://pifferi.de/event/kalender
END:VEVENT
END:VCALENDAR