BEGIN:VCALENDAR
VERSION:2.0
PRODID:-//Pifferi GmbH - ECPv4.6.21//NONSGML v1.0//EN
CALSCALE:GREGORIAN
METHOD:PUBLISH
X-WR-CALNAME:Pifferi GmbH
X-ORIGINAL-URL:https://pifferi.de
X-WR-CALDESC:Veranstaltungen für Pifferi GmbH
BEGIN:VEVENT
DTSTART;VALUE=DATE:20180521
DTEND;VALUE=DATE:20180522
DTSTAMP:20260420T161856
CREATED:20180519T065451Z
LAST-MODIFIED:20180519T070115Z
UID:340-1526860800-1526947199@pifferi.de
SUMMARY:Pfingsten 2018
DESCRIPTION:Wir wünschen Ihnen schöne Pfingsten\n\nUnser Geschäft bleibt am Montag den 21.05.2018 geschlossen.\nAb Dienstag sind wir dann wie gewohnt für Sie erreichbar.\nIhr Team von\nPifferi GmbH Schneidereibedarf\n
URL:https://pifferi.de/event/pfingsten-2018
CATEGORIES:Feiertage
END:VEVENT
END:VCALENDAR