BEGIN:VCALENDAR
VERSION:2.0
PRODID:-//Pifferi GmbH - ECPv4.6.21//NONSGML v1.0//EN
CALSCALE:GREGORIAN
METHOD:PUBLISH
X-WR-CALNAME:Pifferi GmbH
X-ORIGINAL-URL:https://pifferi.de
X-WR-CALDESC:Veranstaltungen für Pifferi GmbH
BEGIN:VEVENT
DTSTART;VALUE=DATE:20181003
DTEND;VALUE=DATE:20181004
DTSTAMP:20260420T180545
CREATED:20180625T095302Z
LAST-MODIFIED:20180625T095547Z
UID:386-1538524800-1538611199@pifferi.de
SUMMARY:Tag der deutschen Einheit
DESCRIPTION:3. Oktober 2018 Tag der deutschen Einheit\n\nSehr geehrte Kunden\,\nliebe Besucher\, \nam Mittwoch\, den 03.10.2018 bleibt unser Betrieb ganztägig geschlossen. \nWir wünschen ihnen einen schönen Feiertag! \nIhr Team von\nPifferi GmbH Schneidereibedarf \n
URL:https://pifferi.de/event/tag-der-deutschen-einheit
CATEGORIES:Feiertage
END:VEVENT
END:VCALENDAR